BEGIN:VCALENDAR
VERSION:2.0
PRODID:-//ChamberMaster//Event Calendar 2.0//EN
METHOD:PUBLISH
X-PUBLISHED-TTL:P3D
REFRESH-INTERVAL:P3D
CALSCALE:GREGORIAN
BEGIN:VEVENT
DTSTART;VALUE=DATE:20140205
DTEND;VALUE=DATE:20140208
TRANSP:TRANSPARENT
X-MICROSOFT-CDO-ALLDAYEVENT:TRUE
SUMMARY:Annual Seminar
DESCRIPTION:Annual Seminar
X-ALT-DESC;FMTTYPE=text/html:Annual Seminar
LOCATION:
UID:e.1442.1915
SEQUENCE:3
DTSTAMP:20260425T154723Z
URL:http://stacy-vista.preview.gochambermaster.com/events/details/annual-seminar-02-05-2014-1915
END:VEVENT

END:VCALENDAR
