BEGIN:VCALENDAR
VERSION:2.0
PRODID:-//ChamberMaster//Event Calendar 2.0//EN
METHOD:PUBLISH
X-PUBLISHED-TTL:P3D
REFRESH-INTERVAL:P3D
CALSCALE:GREGORIAN
BEGIN:VEVENT
DTSTART:20170517T170000Z
DTEND:20170517T183000Z
X-MICROSOFT-CDO-ALLDAYEVENT:FALSE
SUMMARY:Lunch n Learn
DESCRIPTION:Monthly Chamber Lunch & Learn - join us for special topics each month pertinent to your business\, life and family needs.
X-ALT-DESC;FMTTYPE=text/html:<span style="font-size:20px\;">Monthly Chamber Lunch &amp\; Learn - join us for special topics each month pertinent to your business\, life and family needs.</span>
LOCATION:Ramada Inn
UID:e.1442.4278
SEQUENCE:3
DTSTAMP:20260421T104519Z
URL:http://stacy-vista.preview.gochambermaster.com/events/details/lunch-n-learn-05-17-2017-4278
END:VEVENT

END:VCALENDAR
